BEGIN:VCALENDAR
VERSION:2.0
PRODID:-//Shobnall Parish Council//Meeting Calendar//EN
CALSCALE:GREGORIAN
METHOD:PUBLISH
BEGIN:VEVENT
UID:70446-20240520@shobnall-pc.gov.uk
DTSTAMP:20260425T144701Z
DTSTART;VALUE=DATE:20240520
DTEND;VALUE=DATE:20240521
SUMMARY:Full Council Meeting &#8211\\; 20 May 2024
DESCRIPTION:Full Council Meeting\nView details: https://shobnall-pc.gov.uk/meetings/full-council-meeting-20-may-2024/
URL:https://shobnall-pc.gov.uk/meetings/full-council-meeting-20-may-2024/
END:VEVENT
END:VCALENDAR
