BEGIN:VCALENDAR
VERSION:2.0
PRODID:-//Shobnall Parish Council//Meeting Calendar//EN
CALSCALE:GREGORIAN
METHOD:PUBLISH
BEGIN:VEVENT
UID:71097-20260420@shobnall-pc.gov.uk
DTSTAMP:20260421T083048Z
DTSTART;VALUE=DATE:20260420
DTEND;VALUE=DATE:20260421
SUMMARY:Annual Parish Meeting 20th April 2026
DESCRIPTION:Annual Parish Meeting\nView details: https://shobnall-pc.gov.uk/meetings/annual-parish-meeting/
URL:https://shobnall-pc.gov.uk/meetings/annual-parish-meeting/
END:VEVENT
END:VCALENDAR
